BEGIN:VCALENDAR
VERSION:2.0
PRODID:-//wp-events-plugin.com//7.2.3.1//EN
TZID:Europe/Berlin
X-WR-TIMEZONE:Europe/Berlin
BEGIN:VEVENT
UID:35@anjakuethe.com
DTSTART;TZID=Europe/Berlin:20250329T093000
DTEND;TZID=Europe/Berlin:20250331T163000
DTSTAMP:20250113T154057Z
URL:https://www.anjakuethe.com/events/kalendereintrag-basis-dna-praesenz-i
 n-leipzig-im-maerz-2025/
SUMMARY:Basis DNA Präsenz in Leipzig im März
DESCRIPTION:Du erhältst das Einsteigerbuch "ThetaHealing" von Vianna Stiba
 l\, zusätzlich bekommst du vor Ort Dein Handbuch. Hinweis: Getränke sind
  inklusive.
CATEGORIES:Basis DNA ThetaHealing®️ mit Anja Küthe
END:VEVENT
BEGIN:VTIMEZONE
TZID:Europe/Berlin
X-LIC-LOCATION:Europe/Berlin
BEGIN:STANDARD
DTSTART:20241027T020000
TZOFFSETFROM:+0200
TZOFFSETTO:+0100
TZNAME:CET
END:STANDARD
BEGIN:DAYLIGHT
DTSTART:20250330T030000
TZOFFSETFROM:+0100
TZOFFSETTO:+0200
TZNAME:CEST
END:DAYLIGHT
END:VTIMEZONE
END:VCALENDAR